BEGIN:VCALENDAR
VERSION:2.0
PRODID:-//Friends of Thorpe Light Railway - ECPv6.0.10//NONSGML v1.0//EN
CALSCALE:GREGORIAN
METHOD:PUBLISH
X-WR-CALNAME:Friends of Thorpe Light Railway
X-ORIGINAL-URL:http://thorpelightrailway.co.uk
X-WR-CALDESC:Events for Friends of Thorpe Light Railway
REFRESH-INTERVAL;VALUE=DURATION:PT1H
X-Robots-Tag:noindex
X-PUBLISHED-TTL:PT1H
BEGIN:VTIMEZONE
TZID:UTC
BEGIN:STANDARD
TZOFFSETFROM:+0000
TZOFFSETTO:+0000
TZNAME:UTC
DTSTART:20190101T000000
END:STANDARD
END:VTIMEZONE
BEGIN:VEVENT
DTSTART;TZID=UTC:20190428T120000
DTEND;TZID=UTC:20190428T160000
DTSTAMP:20260421T114112
CREATED:20190110T162917Z
LAST-MODIFIED:20190211T002905Z
UID:166-1556452800-1556467200@thorpelightrailway.co.uk
SUMMARY:April Open Day
DESCRIPTION:Come and join us for our first open day of 2019. Enjoy a ride on the railway behind our regular steam-outline diesel locomotive the Severn Lamb Rio Grande. New for 2019 – real Italian coffee\, a variety of teas\, delicious hot chocolate\, cold drinks and snacks will be provided by locally-based family business The Barista Sisters.
URL:http://thorpelightrailway.co.uk/event/april-open-day
CATEGORIES:Open Days
END:VEVENT
END:VCALENDAR